BEGIN:VCALENDAR
VERSION:2.0
PRODID:-//Francis Asbury Society - ECPv6.15.20//NONSGML v1.0//EN
CALSCALE:GREGORIAN
METHOD:PUBLISH
X-WR-CALNAME:Francis Asbury Society
X-ORIGINAL-URL:https://francisasburysociety.com
X-WR-CALDESC:Events for Francis Asbury Society
REFRESH-INTERVAL;VALUE=DURATION:PT1H
X-Robots-Tag:noindex
X-PUBLISHED-TTL:PT1H
BEGIN:VTIMEZONE
TZID:America/Kentucky/Louisville
BEGIN:DAYLIGHT
TZOFFSETFROM:-0500
TZOFFSETTO:-0400
TZNAME:EDT
DTSTART:20170312T070000
END:DAYLIGHT
BEGIN:STANDARD
TZOFFSETFROM:-0400
TZOFFSETTO:-0500
TZNAME:EST
DTSTART:20171105T060000
END:STANDARD
BEGIN:DAYLIGHT
TZOFFSETFROM:-0500
TZOFFSETTO:-0400
TZNAME:EDT
DTSTART:20180311T070000
END:DAYLIGHT
BEGIN:STANDARD
TZOFFSETFROM:-0400
TZOFFSETTO:-0500
TZNAME:EST
DTSTART:20181104T060000
END:STANDARD
BEGIN:DAYLIGHT
TZOFFSETFROM:-0500
TZOFFSETTO:-0400
TZNAME:EDT
DTSTART:20190310T070000
END:DAYLIGHT
BEGIN:STANDARD
TZOFFSETFROM:-0400
TZOFFSETTO:-0500
TZNAME:EST
DTSTART:20191103T060000
END:STANDARD
BEGIN:DAYLIGHT
TZOFFSETFROM:-0500
TZOFFSETTO:-0400
TZNAME:EDT
DTSTART:20200308T070000
END:DAYLIGHT
BEGIN:STANDARD
TZOFFSETFROM:-0400
TZOFFSETTO:-0500
TZNAME:EST
DTSTART:20201101T060000
END:STANDARD
BEGIN:DAYLIGHT
TZOFFSETFROM:-0500
TZOFFSETTO:-0400
TZNAME:EDT
DTSTART:20210314T070000
END:DAYLIGHT
BEGIN:STANDARD
TZOFFSETFROM:-0400
TZOFFSETTO:-0500
TZNAME:EST
DTSTART:20211107T060000
END:STANDARD
BEGIN:DAYLIGHT
TZOFFSETFROM:-0500
TZOFFSETTO:-0400
TZNAME:EDT
DTSTART:20220313T070000
END:DAYLIGHT
BEGIN:STANDARD
TZOFFSETFROM:-0400
TZOFFSETTO:-0500
TZNAME:EST
DTSTART:20221106T060000
END:STANDARD
BEGIN:DAYLIGHT
TZOFFSETFROM:-0500
TZOFFSETTO:-0400
TZNAME:EDT
DTSTART:20230312T070000
END:DAYLIGHT
BEGIN:STANDARD
TZOFFSETFROM:-0400
TZOFFSETTO:-0500
TZNAME:EST
DTSTART:20231105T060000
END:STANDARD
BEGIN:DAYLIGHT
TZOFFSETFROM:-0500
TZOFFSETTO:-0400
TZNAME:EDT
DTSTART:20240310T070000
END:DAYLIGHT
BEGIN:STANDARD
TZOFFSETFROM:-0400
TZOFFSETTO:-0500
TZNAME:EST
DTSTART:20241103T060000
END:STANDARD
BEGIN:DAYLIGHT
TZOFFSETFROM:-0500
TZOFFSETTO:-0400
TZNAME:EDT
DTSTART:20250309T070000
END:DAYLIGHT
BEGIN:STANDARD
TZOFFSETFROM:-0400
TZOFFSETTO:-0500
TZNAME:EST
DTSTART:20251102T060000
END:STANDARD
END:VTIMEZONE
BEGIN:VEVENT
DTSTART;VALUE=DATE:20240819
DTEND;VALUE=DATE:20240824
DTSTAMP:20260424T234728
CREATED:20240201T163059Z
LAST-MODIFIED:20260325T160524Z
UID:10002764-1724025600-1724457599@francisasburysociety.com
SUMMARY:2024 Hemlock Inn Retreat
DESCRIPTION:We enjoyed two full retreats for Hemlock Inn Retreats 2024!\nThough we recorded every session\, we had trouble getting quality recordings. We didn’t have a professional recording tech\, so we did the best we could. Fortunately\, an expert graciously volunteered to clean up our heavily distorted files\, making them audible if not perfect; some distortion remains. Despite the audio quality\, we hope you will enjoy listening to these sessions as you strive to have “A Heart That’s His.” \n\n			\n		\n	\n	\n	\n	\n		Session 1: OpeningSession 2Session 3Session 4Session 5Session 6 Closing	\n	\n	\n\n	\nSpeakers\n\n\n\n\n \nRev. Bill Kierce \n\n \nCricket Albertson\n\n\n \nRev. Stan Key \n\n \nNatalia Gober\n\n\n\n\n\n\n\n 
URL:https://francisasburysociety.com/event/2024-hemlock-inn-retreat/
LOCATION:The Hemlock Inn\, 911 Galbraith Creek Rd.\, Bryson City\, NC\, 28713\, United States
CATEGORIES:Hemlock Inn Retreats
ATTACH;FMTTYPE=image/jpeg:https://francisasburysociety.com/wp-content/uploads/2023/05/HEM24-web-header.jpg
END:VEVENT
BEGIN:VEVENT
DTSTART;TZID=America/Kentucky/Louisville:20230821T140000
DTEND;TZID=America/Kentucky/Louisville:20230823T120000
DTSTAMP:20260424T234728
CREATED:20230222T164730Z
LAST-MODIFIED:20230620T195246Z
UID:10002299-1692626400-1692792000@francisasburysociety.com
SUMMARY:2023 Hemlock Inn Retreat
DESCRIPTION:Pursuing the Holy One\nWe will provide more details as they become available… \nSchedule\nDay One\n2:00 p.m.             Check-in \n5:00 p.m.             From the President (Bill Kierce) \n6:30 p.m.              Dinner \n7:30 p.m.              Session One \nDay Two\n8:30 a.m.              Breakfast \n9:30 a.m.              Session Two \n10:45 a.m.            Break \n11:15 a.m.            Session Three  \n12:30 p.m.            Free Time (lunch on your own) \n5:00 p.m.              Testimonials/Sharing \n6:30 p.m.              Dinner \n7:30 p.m.              Session Four \nDay Three\n8:30 a.m.              Breakfast and Check-out \n9:30 a.m.              Session Five \n10:45 a.m.            Break \n11:15 a.m.            Session Six  \nHoly Communion \n12:30 p.m.            Departure \n 
URL:https://francisasburysociety.com/event/2023-hemlock-inn-retreat/
LOCATION:The Hemlock Inn\, 911 Galbraith Creek Rd.\, Bryson City\, NC\, 28713\, United States
CATEGORIES:Hemlock Inn Retreats
ATTACH;FMTTYPE=image/png:https://francisasburysociety.com/wp-content/uploads/2023/02/HEM2023-header.png
END:VEVENT
BEGIN:VEVENT
DTSTART;TZID=America/Kentucky/Louisville:20220823T140000
DTEND;TZID=America/Kentucky/Louisville:20220828T120000
DTSTAMP:20260424T234728
CREATED:20211006T134243Z
LAST-MODIFIED:20230224T170941Z
UID:10002116-1661263200-1661688000@francisasburysociety.com
SUMMARY:2022 Hemlock Inn Retreats
DESCRIPTION:Heaven on Earth: Living for Global Awakening\nDo you see the sparks of awakening? God is opening the way for a spiritual movement our world has never yet seen! At Hemlock Inn Retreats 2022\, attendees interacted with national and world intercessors for global awakening. They learned about the role of prayer in worldwide revival and how they can take part in what God is doing around the world. Links to each session are provided below. Watch or listen to these sessions to discover how God has moved in the past and how he might move in the future! Our speakers shared personal stories and provided opportunities for us to intercede for worldwide revival. \nSession Videos\nThe session recordings are now available for free online streaming on YouTube; watch the entire playlist HERE. Links to the podcast audios will be made available once a week over the next six weeks. \nSession 1: Awakening Hope (Mark Nysewander)   video  |  audio\nSession 2: Awakening Now (Steve Seamands)  video  |  audio\nSession 3: Awakening Prayer (David Thomas)  video  |  audio\nSession 4: Awakening Response (Allen Hood)  video  |  audio\nSession 5: Awakening Touches (David Yarborough)  video  |  audio\nSession 6: Awakening Stories (Jerry Coleman)  video  |  audio
URL:https://francisasburysociety.com/event/2022-hemlock-inn-retreat1/
LOCATION:The Hemlock Inn\, 911 Galbraith Creek Rd.\, Bryson City\, NC\, 28713\, United States
CATEGORIES:Hemlock Inn Retreats
ATTACH;FMTTYPE=image/png:https://francisasburysociety.com/wp-content/uploads/2021/10/HEM2022-header.png
END:VEVENT
BEGIN:VEVENT
DTSTART;TZID=America/Kentucky/Louisville:20210826T140000
DTEND;TZID=America/Kentucky/Louisville:20210828T140000
DTSTAMP:20260424T234728
CREATED:20210630T081049Z
LAST-MODIFIED:20230224T165034Z
UID:10001914-1629986400-1630159200@francisasburysociety.com
SUMMARY:2021 Hemlock Inn Retreats
DESCRIPTION:In the next to the last book of the Bible\, Jesus’ brother\, Jude\, describes in twenty-five verses how believers can stand firm for the “faith once for all delivered to the saints.” Confronting the pervasive apostasy and blatant heretical teaching within the fellowship of Christ\, Jude exhorts all true disciples of Jesus to persevere by embracing the holy faith and sanctifying power of the triune God who is able to “keep us from falling.” At this year’s Hemlock Inn Retreats\, Dr. Andy Miller III will make us aware of the imminent\, corrosive dangers of false teachings and encourage us to fight the good fight within our faith communities. \nFEATURED SPEAKER\nThis summer\, Dr. Andy Miller III and his wife Abby moved from leading the work of The Salvation Army in Tampa\, Florida\, to serving as vice president for Academic Affairs at Wesley Biblical Seminary in Jackson\, Mississippi. His primary areas of interest include Salvation Army history and theology\, holiness\, and homiletics. Dr. Miller also serves on the Board of Directors of the Francis Asbury Society and is a consultant to the Southern Methodist University Perkins School of Theology Center for Preaching Excellence. He hosts a podcast called “More to the Story\,” which shares weekly content from an orthodox Wesleyan perspective. \nThe Millers have three children: Andy IV\, Titus Wesley\, and Georgia.
URL:https://francisasburysociety.com/event/2021-hemlock-inn-retreat2/
LOCATION:The Hemlock Inn\, 911 Galbraith Creek Rd.\, Bryson City\, NC\, 28713\, United States
CATEGORIES:Hemlock Inn Retreats
ATTACH;FMTTYPE=image/jpeg:https://francisasburysociety.com/wp-content/uploads/2021/06/HEM2021-header.jpg
END:VEVENT
BEGIN:VEVENT
DTSTART;TZID=America/Kentucky/Louisville:20210824T140000
DTEND;TZID=America/Kentucky/Louisville:20210826T123000
DTSTAMP:20260424T234728
CREATED:20210324T000932Z
LAST-MODIFIED:20230126T131457Z
UID:10001913-1629813600-1629981000@francisasburysociety.com
SUMMARY:2021 Hemlock Inn Retreats
DESCRIPTION:In the next to the last book of the Bible\, Jesus’ brother\, Jude\, describes in twenty-five verses how believers can stand firm for the “faith once for all delivered to the saints.” Confronting the pervasive apostasy and blatant heretical teaching within the fellowship of Christ\, Jude exhorts all true disciples of Jesus to persevere by embracing the holy faith and sanctifying power of the triune God who is able to “keep us from falling.” At this year’s Hemlock Inn Retreats\, Dr. Andy Miller III will make us aware of the imminent\, corrosive dangers of false teachings and encourage us to fight the good fight within our faith communities. \nFEATURED SPEAKER\nThis summer\, Dr. Andy Miller III and his wife Abby moved from leading the work of The Salvation Army in Tampa\, Florida\, to serving as vice president for Academic Affairs at Wesley Biblical Seminary in Jackson\, Mississippi. His primary areas of interest include Salvation Army history and theology\, holiness\, and homiletics. Dr. Miller also serves on the Board of Directors of the Francis Asbury Society and is a consultant to the Southern Methodist University Perkins School of Theology Center for Preaching Excellence. He hosts a podcast called “More to the Story\,” which shares weekly content from an orthodox Wesleyan perspective. \nThe Millers have three children: Andy IV\, Titus Wesley\, and Georgia. \nSCHEDULE\nDAY ONE\n2:00 p.m.  Check-in\n5:00 p.m.  President’s Comments (Ron Smith)\n6:30 p.m.  Dinner\n7:30 p.m.  “Falling Fast” — Jude 1-7 (Andy Miller) \nDAY TWO\n8:30 a.m.  Breakfast\n9:30 a.m.  “Thee over Me” — Jude 8-10 (Andy Miller)\n10:45 a.m. Break\n11:15 a.m. News from the Front (Josh Hallahan)\n12:30 p.m. Free Time (lunch on your own)\n5:00 p.m.   Testimonials/Sharing\n6:30 p.m.   Dinner\n7:30 p.m.   “Led Away” — Jude 11-16 (Andy Miller) \nDAY THREE\n8:30 a.m.  Breakfast\n9:30 a.m.  “Being Kept” — Jude 17-25 (Andy Miller)\n10:45 a.m. Break\n11:15 a.m. “To All the World” (Jerry Coleman)\nHoly Communion (Mike Powers)\n12:30 p.m.  Departure \n*Registration includes food and lodging for the retreat\, except lunch on day two.
URL:https://francisasburysociety.com/event/2021-hemlock-retreat1/
LOCATION:The Hemlock Inn\, 911 Galbraith Creek Rd.\, Bryson City\, NC\, 28713\, United States
CATEGORIES:Hemlock Inn Retreats
ATTACH;FMTTYPE=image/jpeg:https://francisasburysociety.com/wp-content/uploads/2021/03/HEM2021-header-1.jpg
END:VEVENT
BEGIN:VEVENT
DTSTART;TZID=America/Kentucky/Louisville:20200818T040000
DTEND;TZID=America/Kentucky/Louisville:20200822T130000
DTSTAMP:20260424T234728
CREATED:20210713T013707Z
LAST-MODIFIED:20210713T031050Z
UID:10001946-1597723200-1598101200@francisasburysociety.com
SUMMARY:2020 Hemlock Inn Retreats
DESCRIPTION:God on the move\nActs is the account of how the movement of Jesus began small and went multi-national. There are good reasons for this\, all rooted in character of God. He was on the move and His believers were moving with Him\, witnessing and discipling as they went. Similarly\, we can be part of His movement in our locales today. \nCD and DVD recordings of this event can be ordered in our Bookstore.
URL:https://francisasburysociety.com/event/2020-hemlock-inn-retreats/
LOCATION:The Hemlock Inn\, 911 Galbraith Creek Rd.\, Bryson City\, NC\, 28713\, United States
CATEGORIES:Hemlock Inn Retreats
ATTACH;FMTTYPE=image/jpeg:https://francisasburysociety.com/wp-content/uploads/2021/07/HEM2020-header-1.jpg
END:VEVENT
BEGIN:VEVENT
DTSTART;TZID=America/Kentucky/Louisville:20190820T040000
DTEND;TZID=America/Kentucky/Louisville:20190824T130000
DTSTAMP:20260424T234728
CREATED:20210713T020324Z
LAST-MODIFIED:20210713T031308Z
UID:10001947-1566273600-1566651600@francisasburysociety.com
SUMMARY:2019 Hemlock Inn Retreats
DESCRIPTION:to be Holy\nHow do we live a holy life in an unholy society? How do we live as children of God who represent him faithfully in the world? These are some of the questions that God’s people have faced and continue to wrestle with today. Christians who live in counter-cultural ways often endure the pressures and trials from wider society. A look at the lives of heroes of the faith reveals that God honors those who remain faithful and steadfast to him in times of trials. Jesus experienced the same challenges and left us an example of how to lead such a life. The call to holiness is the call to embody his example in order to live so that we can please God. \nCD and DVD recordings of this event can be ordered in our Bookstore.
URL:https://francisasburysociety.com/event/2019-hemlock-inn-retreats/
LOCATION:The Hemlock Inn\, 911 Galbraith Creek Rd.\, Bryson City\, NC\, 28713\, United States
CATEGORIES:Hemlock Inn Retreats
ATTACH;FMTTYPE=image/jpeg:https://francisasburysociety.com/wp-content/uploads/2021/07/HEM19-promotion-graphic.jpg
END:VEVENT
BEGIN:VEVENT
DTSTART;TZID=America/Kentucky/Louisville:20180821T040000
DTEND;TZID=America/Kentucky/Louisville:20180823T130000
DTSTAMP:20260424T234728
CREATED:20210713T021133Z
LAST-MODIFIED:20210713T031245Z
UID:10001948-1534824000-1535029200@francisasburysociety.com
SUMMARY:2018 Hemlock Inn Retreats
DESCRIPTION:Jesus – The one who saves us from our sins\nWhen Christians think about Jesus saving us from our sins\, we usually think about our personal sins\, the sins we commit. However\, the problem of sin is much deeper and more complex. We can live as slaves to sins we don’t commit as well—the physical\, spiritual\, mental\, and emotional wounds that are inflicted on us by others. In the incarnation\, the eternal Son of God came to save us from this twofold problem of sin through his divine nature and human nature\, culminating in his resurrection and exaltation. Through the Holy Spirit\, we can be united with Christ\, the One who saves us from all our sins. \nCD and DVD recordings of this event can be ordered in our Bookstore.View the Hemlock Inn Retreats 2018 brochure here.
URL:https://francisasburysociety.com/event/2018-hemlock-inn-retreats/
LOCATION:The Hemlock Inn\, 911 Galbraith Creek Rd.\, Bryson City\, NC\, 28713\, United States
CATEGORIES:Hemlock Inn Retreats
ATTACH;FMTTYPE=image/jpeg:https://francisasburysociety.com/wp-content/uploads/2021/07/HEM18-header-graphic-e1522088037503.jpg
END:VEVENT
END:VCALENDAR