BEGIN:VCALENDAR
VERSION:2.0
PRODID:-//Francis Asbury Society - ECPv6.15.20//NONSGML v1.0//EN
CALSCALE:GREGORIAN
METHOD:PUBLISH
X-WR-CALNAME:Francis Asbury Society
X-ORIGINAL-URL:https://francisasburysociety.com
X-WR-CALDESC:Events for Francis Asbury Society
REFRESH-INTERVAL;VALUE=DURATION:PT1H
X-Robots-Tag:noindex
X-PUBLISHED-TTL:PT1H
BEGIN:VTIMEZONE
TZID:America/Kentucky/Louisville
BEGIN:DAYLIGHT
TZOFFSETFROM:-0500
TZOFFSETTO:-0400
TZNAME:EDT
DTSTART:20240310T070000
END:DAYLIGHT
BEGIN:STANDARD
TZOFFSETFROM:-0400
TZOFFSETTO:-0500
TZNAME:EST
DTSTART:20241103T060000
END:STANDARD
BEGIN:DAYLIGHT
TZOFFSETFROM:-0500
TZOFFSETTO:-0400
TZNAME:EDT
DTSTART:20250309T070000
END:DAYLIGHT
BEGIN:STANDARD
TZOFFSETFROM:-0400
TZOFFSETTO:-0500
TZNAME:EST
DTSTART:20251102T060000
END:STANDARD
BEGIN:DAYLIGHT
TZOFFSETFROM:-0500
TZOFFSETTO:-0400
TZNAME:EDT
DTSTART:20260308T070000
END:DAYLIGHT
BEGIN:STANDARD
TZOFFSETFROM:-0400
TZOFFSETTO:-0500
TZNAME:EST
DTSTART:20261101T060000
END:STANDARD
END:VTIMEZONE
BEGIN:VEVENT
DTSTART;TZID=America/Kentucky/Louisville:20251110T190000
DTEND;TZID=America/Kentucky/Louisville:20251110T200000
DTSTAMP:20260424T081458
CREATED:20250905T005925Z
LAST-MODIFIED:20260407T162653Z
UID:10002799-1762801200-1762804800@francisasburysociety.com
SUMMARY:Numbers: There and Back Again
DESCRIPTION:Led by Dr. John N. Oswalt\, an American scholar and distinguished professor of Old Testament at Asbury Theological Seminary. \nSUMMARY: In the Book of Numbers we travel with the people of Israel from Sinai to the Plains of Moab across from Jericho. Along the way we learn what life in the Spirit could be and what it too often is and how to prevent that deficiency. \nFor a brief introduction of this series\, watch the following clip: \n \nThe workbook for this study can be downloaded (free) and recordings of each session can be purchased directly from our Bookstore:
URL:https://francisasburysociety.com/event/numbers-2/2025-11-10/
LOCATION:The FAS Ministry Center\, 1580 Lexington Rd\, Wilmore\, KY\, 40390\, United States
CATEGORIES:Bible Studies
ATTACH;FMTTYPE=image/jpeg:https://francisasburysociety.com/wp-content/uploads/2025/06/Numbers-header.jpg
ORGANIZER;CN="Francis Asbury Society":MAILTO:fas@francisasburysociety.com
END:VEVENT
BEGIN:VEVENT
DTSTART;TZID=America/Kentucky/Louisville:20251117T190000
DTEND;TZID=America/Kentucky/Louisville:20251117T200000
DTSTAMP:20260424T081458
CREATED:20250905T005925Z
LAST-MODIFIED:20260407T162653Z
UID:10002800-1763406000-1763409600@francisasburysociety.com
SUMMARY:Numbers: There and Back Again
DESCRIPTION:Led by Dr. John N. Oswalt\, an American scholar and distinguished professor of Old Testament at Asbury Theological Seminary. \nSUMMARY: In the Book of Numbers we travel with the people of Israel from Sinai to the Plains of Moab across from Jericho. Along the way we learn what life in the Spirit could be and what it too often is and how to prevent that deficiency. \nFor a brief introduction of this series\, watch the following clip: \n \nThe workbook for this study can be downloaded (free) and recordings of each session can be purchased directly from our Bookstore:
URL:https://francisasburysociety.com/event/numbers-2/2025-11-17/
LOCATION:The FAS Ministry Center\, 1580 Lexington Rd\, Wilmore\, KY\, 40390\, United States
CATEGORIES:Bible Studies
ATTACH;FMTTYPE=image/jpeg:https://francisasburysociety.com/wp-content/uploads/2025/06/Numbers-header.jpg
ORGANIZER;CN="Francis Asbury Society":MAILTO:fas@francisasburysociety.com
END:VEVENT
END:VCALENDAR