BEGIN:VCALENDAR
VERSION:2.0
PRODID:-//Francis Asbury Society - ECPv6.15.20//NONSGML v1.0//EN
CALSCALE:GREGORIAN
METHOD:PUBLISH
X-WR-CALNAME:Francis Asbury Society
X-ORIGINAL-URL:https://francisasburysociety.com
X-WR-CALDESC:Events for Francis Asbury Society
REFRESH-INTERVAL;VALUE=DURATION:PT1H
X-Robots-Tag:noindex
X-PUBLISHED-TTL:PT1H
BEGIN:VTIMEZONE
TZID:America/Kentucky/Louisville
BEGIN:DAYLIGHT
TZOFFSETFROM:-0500
TZOFFSETTO:-0400
TZNAME:EDT
DTSTART:20200308T070000
END:DAYLIGHT
BEGIN:STANDARD
TZOFFSETFROM:-0400
TZOFFSETTO:-0500
TZNAME:EST
DTSTART:20201101T060000
END:STANDARD
BEGIN:DAYLIGHT
TZOFFSETFROM:-0500
TZOFFSETTO:-0400
TZNAME:EDT
DTSTART:20210314T070000
END:DAYLIGHT
BEGIN:STANDARD
TZOFFSETFROM:-0400
TZOFFSETTO:-0500
TZNAME:EST
DTSTART:20211107T060000
END:STANDARD
BEGIN:DAYLIGHT
TZOFFSETFROM:-0500
TZOFFSETTO:-0400
TZNAME:EDT
DTSTART:20220313T070000
END:DAYLIGHT
BEGIN:STANDARD
TZOFFSETFROM:-0400
TZOFFSETTO:-0500
TZNAME:EST
DTSTART:20221106T060000
END:STANDARD
BEGIN:DAYLIGHT
TZOFFSETFROM:-0500
TZOFFSETTO:-0400
TZNAME:EDT
DTSTART:20230312T070000
END:DAYLIGHT
BEGIN:STANDARD
TZOFFSETFROM:-0400
TZOFFSETTO:-0500
TZNAME:EST
DTSTART:20231105T060000
END:STANDARD
END:VTIMEZONE
BEGIN:VEVENT
DTSTART;TZID=America/Kentucky/Louisville:20211123T180000
DTEND;TZID=America/Kentucky/Louisville:20211123T193000
DTSTAMP:20260424T083022
CREATED:20211004T171303Z
LAST-MODIFIED:20221020T151715Z
UID:10002115-1637690400-1637695800@francisasburysociety.com
SUMMARY:International Day of Prayer
DESCRIPTION:Our world needs this divine healing. The Church\, as a community of priests\, must lead in this intercession. We acknowledge divine sovereignty and human responsibility. However\, we are not simply to pray for a return to business as usual. We are not merely to ask God to stay his hand of judgment. We are to pray for a fresh outpouring of the Holy Spirit. May God give us the faith to trust God for healing from the pandemic and a corresponding reset of refreshment. The coming revival can be as pervasive as the recent pandemic! \nThe Francis Asbury Society is calling the church to corporate fasting and prayer. On November 23 we hosted a virtual international day of prayer from our Ministry Center. The basis of our petition is stated in Daniel 9:18\, “We do not make requests of you because we are righteous\, but because of your great mercy. O Lord\, listen! O Lord\, forgive! O Lord\, hear and act!” \nIf you were unable to join us in person\, you can access the recorded videos here: \nYouTube: https://www.youtube.com/watch?v=N8EykTwnXSc\nFacebook: https://fb.me/e/1qn8O99cz
URL:https://francisasburysociety.com/event/international-healing-service/
LOCATION:KY
CATEGORIES:Prayer Meetings
ATTACH;FMTTYPE=image/png:https://francisasburysociety.com/wp-content/uploads/2021/10/IHS1121-prayer-header-1.png
END:VEVENT
BEGIN:VEVENT
DTSTART;TZID=America/Kentucky/Louisville:20220203T080000
DTEND;TZID=America/Kentucky/Louisville:20220203T090000
DTSTAMP:20260424T083022
CREATED:20211130T155023Z
LAST-MODIFIED:20220128T173737Z
UID:10002184-1643875200-1643878800@francisasburysociety.com
SUMMARY:FAS Student Society Prayer Meeting
DESCRIPTION:Join us for a time to quiet our hearts and join the eternal conversation within the Trinity. We want to be about the Father’s business\, so we step apart and pray together once a week. It is a refreshing\, clarifying\, and empowering time with the Lord and one another. All are welcome.
URL:https://francisasburysociety.com/event/fas-student-society-prayer-meeting/2022-02-03/
LOCATION:The FAS Ministry Center\, 1580 Lexington Rd\, Wilmore\, KY\, 40390\, United States
CATEGORIES:FAS Student Society,Prayer Meetings
ATTACH;FMTTYPE=image/png:https://francisasburysociety.com/wp-content/uploads/2021/11/SM-Prayer-Mtgs.png
ORGANIZER;CN="FAS Student Society":MAILTO:kelly.hallahan@francisasburysociety.com
END:VEVENT
BEGIN:VEVENT
DTSTART;TZID=America/Kentucky/Louisville:20220505T080000
DTEND;TZID=America/Kentucky/Louisville:20220505T090000
DTSTAMP:20260424T083022
CREATED:20211130T155023Z
LAST-MODIFIED:20220128T173831Z
UID:10002198-1651737600-1651741200@francisasburysociety.com
SUMMARY:FAS Student Society Prayer Meeting
DESCRIPTION:Join us for a time to quiet our hearts and join the eternal conversation within the Trinity. We want to be about the Father’s business\, so we step apart and pray together once a week. It is a refreshing\, clarifying\, and empowering time with the Lord and one another. All are welcome.
URL:https://francisasburysociety.com/event/fas-student-society-prayer-meeting-2022-02-03/2022-05-05/
LOCATION:The FAS Ministry Center\, 1580 Lexington Rd\, Wilmore\, KY\, 40390\, United States
CATEGORIES:FAS Student Society,Prayer Meetings
ATTACH;FMTTYPE=image/png:https://francisasburysociety.com/wp-content/uploads/2021/11/SM-Prayer-Mtgs.png
ORGANIZER;CN="FAS Student Society":MAILTO:kelly.hallahan@francisasburysociety.com
END:VEVENT
BEGIN:VEVENT
DTSTART;TZID=America/Kentucky/Louisville:20220917T100000
DTEND;TZID=America/Kentucky/Louisville:20220917T113000
DTSTAMP:20260424T083022
CREATED:20220826T184745Z
LAST-MODIFIED:20220907T153140Z
UID:10002255-1663408800-1663414200@francisasburysociety.com
SUMMARY:Student Ministries Prayer Workshop
DESCRIPTION:In this workshop\, we’ll explore together how to pray in our actual life. Come join us! \nThe workshop will be held in the Salvation Army Student Center.
URL:https://francisasburysociety.com/event/student-ministries-prayer-workshop/
LOCATION:Asbury University\, One Macklem Dr\, Wilmore\, KY\, 40390\, United States
CATEGORIES:Prayer Meetings
ATTACH;FMTTYPE=image/png:https://francisasburysociety.com/wp-content/uploads/2022/08/Prayer-Workshop-1.png
ORGANIZER;CN="FAS Student Society":MAILTO:kelly.hallahan@francisasburysociety.com
END:VEVENT
END:VCALENDAR